BEGIN:VCALENDAR
VERSION:2.0
PRODID:-//Carla Berling/Felicitas Fuchs - ECPv6.15.20//NONSGML v1.0//EN
CALSCALE:GREGORIAN
METHOD:PUBLISH
X-ORIGINAL-URL:https://www.carla-berling.de
X-WR-CALDESC:Veranstaltungen für Carla Berling/Felicitas Fuchs
REFRESH-INTERVAL;VALUE=DURATION:PT1H
X-Robots-Tag:noindex
X-PUBLISHED-TTL:PT1H
BEGIN:VTIMEZONE
TZID:Europe/Berlin
BEGIN:DAYLIGHT
TZOFFSETFROM:+0100
TZOFFSETTO:+0200
TZNAME:CEST
DTSTART:20230326T010000
END:DAYLIGHT
BEGIN:STANDARD
TZOFFSETFROM:+0200
TZOFFSETTO:+0100
TZNAME:CET
DTSTART:20231029T010000
END:STANDARD
BEGIN:DAYLIGHT
TZOFFSETFROM:+0100
TZOFFSETTO:+0200
TZNAME:CEST
DTSTART:20240331T010000
END:DAYLIGHT
BEGIN:STANDARD
TZOFFSETFROM:+0200
TZOFFSETTO:+0100
TZNAME:CET
DTSTART:20241027T010000
END:STANDARD
BEGIN:DAYLIGHT
TZOFFSETFROM:+0100
TZOFFSETTO:+0200
TZNAME:CEST
DTSTART:20250330T010000
END:DAYLIGHT
BEGIN:STANDARD
TZOFFSETFROM:+0200
TZOFFSETTO:+0100
TZNAME:CET
DTSTART:20251026T010000
END:STANDARD
BEGIN:DAYLIGHT
TZOFFSETFROM:+0100
TZOFFSETTO:+0200
TZNAME:CEST
DTSTART:20260329T010000
END:DAYLIGHT
BEGIN:STANDARD
TZOFFSETFROM:+0200
TZOFFSETTO:+0100
TZNAME:CET
DTSTART:20261025T010000
END:STANDARD
BEGIN:DAYLIGHT
TZOFFSETFROM:+0100
TZOFFSETTO:+0200
TZNAME:CEST
DTSTART:20270328T010000
END:DAYLIGHT
BEGIN:STANDARD
TZOFFSETFROM:+0200
TZOFFSETTO:+0100
TZNAME:CET
DTSTART:20271031T010000
END:STANDARD
END:VTIMEZONE
BEGIN:VEVENT
DTSTART;TZID=Europe/Berlin:20260423T190000
DTEND;TZID=Europe/Berlin:20260423T210000
DTSTAMP:20260424T162926
CREATED:20260307T091021Z
LAST-MODIFIED:20260307T091021Z
UID:8072-1776970800-1776978000@www.carla-berling.de
SUMMARY:Overath
DESCRIPTION:Lesung als Felicitas Fuchs aus: „Die Akte Schneeweiß“ \nTickets: \n\n\n\n\ndegen.claudia@gmx.net \nTel. 0174 7883779
URL:https://www.carla-berling.de/veranstaltung/overath-3/
LOCATION:Saal im Restaurant Thai Elefant\, Kölner Straße 66 (Seiteneingang rechts)\, Overath\, 51491
CATEGORIES:Lesung
END:VEVENT
BEGIN:VEVENT
DTSTART;TZID=Europe/Berlin:20260417T190000
DTEND;TZID=Europe/Berlin:20260417T210000
DTSTAMP:20260424T162926
CREATED:20260118T115753Z
LAST-MODIFIED:20260201T114309Z
UID:8053-1776452400-1776459600@www.carla-berling.de
SUMMARY:Bad Oeynhausen
DESCRIPTION:Lesung als Felicitas Fuchs aus: „Die Akte Schneeweiß“
URL:https://www.carla-berling.de/veranstaltung/bad-oeynhausen-9/
LOCATION:Stadtbücherei Bad Oeynhausen\, Herforder Straße 47-51\, Bad Oeynhausen\, 32545
CATEGORIES:Lesung
END:VEVENT
BEGIN:VEVENT
DTSTART;TZID=Europe/Berlin:20260326T190000
DTEND;TZID=Europe/Berlin:20260326T210000
DTSTAMP:20260424T162926
CREATED:20260201T113603Z
LAST-MODIFIED:20260201T113603Z
UID:8062-1774551600-1774558800@www.carla-berling.de
SUMMARY:Steinhagen
DESCRIPTION:Lesung als Felicitas Fuchs aus: „Die Akte Schneeweiß“ \nKartenvorverkauf in der Buchhandlung oder unter 05204/5119
URL:https://www.carla-berling.de/veranstaltung/steinhagen/
LOCATION:Buchhandlung am Schlichte Carree\, Kirchplatz 26\, Steinhagen\, 33803
CATEGORIES:Lesung
END:VEVENT
BEGIN:VEVENT
DTSTART;TZID=Europe/Berlin:20260319T180000
DTEND;TZID=Europe/Berlin:20260319T200000
DTSTAMP:20260424T162926
CREATED:20251214T134859Z
LAST-MODIFIED:20251221T172016Z
UID:8020-1773943200-1773950400@www.carla-berling.de
SUMMARY:Köln
DESCRIPTION:Lesung als Felicitas Fuchs aus: „Die Akte Schneeweiß“\nVorverkauf \n 
URL:https://www.carla-berling.de/veranstaltung/koeln-7/
LOCATION:Erzengel-Michael-Kirche\, Pfarrer-te-Reh-Straße 7\, Köln\, 50999
CATEGORIES:Lesung
END:VEVENT
BEGIN:VEVENT
DTSTART;TZID=Europe/Berlin:20260314T203000
DTEND;TZID=Europe/Berlin:20260314T223000
DTSTAMP:20260424T162926
CREATED:20251026T095923Z
LAST-MODIFIED:20260201T113942Z
UID:8007-1773520200-1773527400@www.carla-berling.de
SUMMARY:Schwerin
DESCRIPTION:Lesung aus: „Glück für Wiedereinsteiger“ \nKarten in Ihrer Thalia Buchhandlung Schwerin oder unter thalia.reservix.de
URL:https://www.carla-berling.de/veranstaltung/schwerin/
LOCATION:Thalia Schwerin\, Marienplatz 5-6\, Schwerin\, 19053
CATEGORIES:Lesung
END:VEVENT
BEGIN:VEVENT
DTSTART;TZID=Europe/Berlin:20251114T160000
DTEND;TZID=Europe/Berlin:20251114T183000
DTSTAMP:20260424T162926
CREATED:20251024T144019Z
LAST-MODIFIED:20251024T144019Z
UID:8000-1763136000-1763145000@www.carla-berling.de
SUMMARY:Köln
DESCRIPTION:Lesung aus: „Der Alte muss weg“ \n \n 
URL:https://www.carla-berling.de/veranstaltung/koeln-6/
LOCATION:Erzengel-Michael-Kirche\, Pfarrer-te-Reh-Straße 7\, Köln\, 50999
CATEGORIES:Lesung
END:VEVENT
BEGIN:VEVENT
DTSTART;TZID=Europe/Berlin:20251029T183000
DTEND;TZID=Europe/Berlin:20251029T210000
DTSTAMP:20260424T162926
CREATED:20251024T143249Z
LAST-MODIFIED:20251024T143249Z
UID:7996-1761762600-1761771600@www.carla-berling.de
SUMMARY:Höchst im Odenwald
DESCRIPTION:Lesung als Felicitas Fuchs aus: „Die Akte Schneeweiß“ \nSektempfang um 18:30 Uhr\nKartentelefon: 06163-9399365
URL:https://www.carla-berling.de/veranstaltung/hoechst-im-odenwald/
LOCATION:Kloster Höchst\, Kirchberg 3\, Höchst im Odenwald\, 64739
CATEGORIES:Lesung
END:VEVENT
BEGIN:VEVENT
DTSTART;TZID=Europe/Berlin:20251022T143000
DTEND;TZID=Europe/Berlin:20251022T163000
DTSTAMP:20260424T162926
CREATED:20250622T095523Z
LAST-MODIFIED:20250622T095523Z
UID:7980-1761143400-1761150600@www.carla-berling.de
SUMMARY:Detmold
DESCRIPTION:Lesung als Felicitas Fuchs aus: „Minna“
URL:https://www.carla-berling.de/veranstaltung/detmold/
LOCATION:Stadtbibliothek Detmold\, Leopoldstr. 5\, Detmold\, 32756
CATEGORIES:Lesung
END:VEVENT
BEGIN:VEVENT
DTSTART;TZID=Europe/Berlin:20251008T190000
DTEND;TZID=Europe/Berlin:20251008T210000
DTSTAMP:20260424T162926
CREATED:20250309T160055Z
LAST-MODIFIED:20250622T095102Z
UID:7901-1759950000-1759957200@www.carla-berling.de
SUMMARY:Bad Oeynhausen
DESCRIPTION:Lesung als Felicitas Fuchs aus: „Die Akte Schneeweiß“
URL:https://www.carla-berling.de/veranstaltung/bad-oeynhausen-8/
LOCATION:Laurentiuskirche Rehme\, Kirchstraße 17\, Bad Oeynhausen\, 32547
CATEGORIES:Lesung
END:VEVENT
BEGIN:VEVENT
DTSTART;TZID=Europe/Berlin:20251007T190000
DTEND;TZID=Europe/Berlin:20251007T210000
DTSTAMP:20260424T162926
CREATED:20250309T155926Z
LAST-MODIFIED:20250622T094942Z
UID:7899-1759863600-1759870800@www.carla-berling.de
SUMMARY:Bielefeld
DESCRIPTION:Lesung als Felicitas Fuchs aus: „Die Akte Schneeweiß“
URL:https://www.carla-berling.de/veranstaltung/bielefeld-4/
LOCATION:Scala\, Treppenstr. 2-4\, Bielefeld\, 33647
CATEGORIES:Lesung
END:VEVENT
BEGIN:VEVENT
DTSTART;TZID=Europe/Berlin:20250925T190000
DTEND;TZID=Europe/Berlin:20250925T210000
DTSTAMP:20260424T162926
CREATED:20250309T161340Z
LAST-MODIFIED:20250309T161340Z
UID:7903-1758826800-1758834000@www.carla-berling.de
SUMMARY:Wissen
DESCRIPTION:Lesung aus: „Der Alte muss weg“
URL:https://www.carla-berling.de/veranstaltung/wissen/
LOCATION:Hexagon Wissen\, Rathausstr. 56\, Wissen\, 57537
ORGANIZER;CN="Betzdorfer Kultur- und Literaturverein":MAILTO:info@mordsregion.de
END:VEVENT
BEGIN:VEVENT
DTSTART;TZID=Europe/Berlin:20250918T190000
DTEND;TZID=Europe/Berlin:20250918T210000
DTSTAMP:20260424T162926
CREATED:20250309T155810Z
LAST-MODIFIED:20250622T094658Z
UID:7897-1758222000-1758229200@www.carla-berling.de
SUMMARY:Spenge
DESCRIPTION:Lesung als Felicitas Fuchs aus: „Die Akte Schneeweiß“
URL:https://www.carla-berling.de/veranstaltung/spenge/
LOCATION:Bürgezentrum Spenge\, Poststr. 6a\, Spenge\, 32139
CATEGORIES:Lesung
ORGANIZER;CN="Stadtb%C3%BCcherei Spenge":MAILTO:buecherei@spenge.de
END:VEVENT
BEGIN:VEVENT
DTSTART;TZID=Europe/Berlin:20250904T190000
DTEND;TZID=Europe/Berlin:20250904T210000
DTSTAMP:20260424T162926
CREATED:20250309T155712Z
LAST-MODIFIED:20250622T094216Z
UID:7895-1757012400-1757019600@www.carla-berling.de
SUMMARY:Bückeburg
DESCRIPTION:Lesung als Felicitas Fuchs aus: „Die Akte Schneeweiß“
URL:https://www.carla-berling.de/veranstaltung/bueckeburg-2/
LOCATION:Grundschule im Petzer Feld\, Petzer Str. 43\, Bückeburg\, Niedersachsen\, 31675\, Germany
CATEGORIES:Lesung
END:VEVENT
BEGIN:VEVENT
DTSTART;TZID=Europe/Berlin:20250717T190000
DTEND;TZID=Europe/Berlin:20250717T210000
DTSTAMP:20260424T162926
CREATED:20250309T162040Z
LAST-MODIFIED:20250309T162040Z
UID:7910-1752778800-1752786000@www.carla-berling.de
SUMMARY:Löhne
DESCRIPTION:Lesung als Felicitas Fuchs aus: „Die Akte Schneeweiß“
URL:https://www.carla-berling.de/veranstaltung/loehne-5/
LOCATION:Alter Wartesaal – Bahnhof Löhne\, Bünder Str. 7\, Löhne\, 32584
CATEGORIES:Lesung
END:VEVENT
BEGIN:VEVENT
DTSTART;TZID=Europe/Berlin:20250712T150000
DTEND;TZID=Europe/Berlin:20250712T170000
DTSTAMP:20260424T162926
CREATED:20241220T125853Z
LAST-MODIFIED:20250406T110541Z
UID:7865-1752332400-1752339600@www.carla-berling.de
SUMMARY:Hamm
DESCRIPTION:Lesung als Felicitas Fuchs aus: „Die Akte Schneeweiß“
URL:https://www.carla-berling.de/veranstaltung/hamm-2/
LOCATION:Pfarrheim St.Stephanus Hamm\, Heessener Dorfstr. 21\, Hamm\, 59073
CATEGORIES:Lesung
END:VEVENT
BEGIN:VEVENT
DTSTART;TZID=Europe/Berlin:20250708T190000
DTEND;TZID=Europe/Berlin:20250708T210000
DTSTAMP:20260424T162926
CREATED:20250406T110142Z
LAST-MODIFIED:20250406T110142Z
UID:7934-1752001200-1752008400@www.carla-berling.de
SUMMARY:Hennef
DESCRIPTION:Lesung als Felicitas Fuchs aus: „Die Akte Schneeweiß“
URL:https://www.carla-berling.de/veranstaltung/hennef-5/
LOCATION:Buchhandlung am Markt\, Adenauerplatz 22\, Hennef\, 53773
CATEGORIES:Lesung
ORGANIZER;CN="Buchhandlung am Markt Hennef":MAILTO:kontakt@bam-hennef.de
END:VEVENT
BEGIN:VEVENT
DTSTART;TZID=Europe/Berlin:20250704T190000
DTEND;TZID=Europe/Berlin:20250704T210000
DTSTAMP:20260424T162926
CREATED:20250322T114202Z
LAST-MODIFIED:20250406T105829Z
UID:7916-1751655600-1751662800@www.carla-berling.de
SUMMARY:Weilerswist
DESCRIPTION:Lesung als Felicitas Fuchs aus: „Die Akte Schneeweiß“
URL:https://www.carla-berling.de/veranstaltung/weilerswist-3/
LOCATION:Kath. Jugendheim Weilerswist\, Triftstr. 15\, Weilerswist\, 53919
CATEGORIES:Lesung
ORGANIZER;CN="Katholiche %C3%B6ffentliche B%C3%BCcherei St. Mauritius%2C Weilerswist%2C in Kooperation mit dem Kath. Familienzentrum Weilerswist":MAILTO:buecherei-mauritius@pfarrverband-weilerswist.org
END:VEVENT
BEGIN:VEVENT
DTSTART;TZID=Europe/Berlin:20250702T193000
DTEND;TZID=Europe/Berlin:20250702T213000
DTSTAMP:20260424T162926
CREATED:20250309T155519Z
LAST-MODIFIED:20250406T105747Z
UID:7893-1751484600-1751491800@www.carla-berling.de
SUMMARY:Steinfurt
DESCRIPTION:Lesung als Felicitas Fuchs aus: „Die Akte Schneeweiß“
URL:https://www.carla-berling.de/veranstaltung/steinfurt-2/
LOCATION:Cafe im HeinrichNeuyBauhausMuseum\, Kirchplatz 5\, Steinfurt\, 48565
CATEGORIES:Lesung
END:VEVENT
BEGIN:VEVENT
DTSTART;TZID=Europe/Berlin:20250626T190000
DTEND;TZID=Europe/Berlin:20250626T210000
DTSTAMP:20260424T162926
CREATED:20241220T130004Z
LAST-MODIFIED:20250508T170927Z
UID:7863-1750964400-1750971600@www.carla-berling.de
SUMMARY:Goslar
DESCRIPTION:Lesung als Felicitas Fuchs aus: „Die Akte Schneeweiß“
URL:https://www.carla-berling.de/veranstaltung/goslar-3/
LOCATION:Kulturkraftwerk Harz Energie\, Hidesheimer Str. 21\, Goslar\, 38640
CATEGORIES:Lesung
ORGANIZER;CN="Zonta Club Goslar":MAILTO:cub-kreisel@t-online.de
END:VEVENT
BEGIN:VEVENT
DTSTART;TZID=Europe/Berlin:20250517T190000
DTEND;TZID=Europe/Berlin:20250517T210000
DTSTAMP:20260424T162926
CREATED:20241220T130242Z
LAST-MODIFIED:20250406T110839Z
UID:7861-1747508400-1747515600@www.carla-berling.de
SUMMARY:Minden
DESCRIPTION:Lesung als Felicitas Fuchs aus: „Die Akte Schneeweiß“
URL:https://www.carla-berling.de/veranstaltung/minden-6/
LOCATION:Domschatz Minden\, Kleiner Domhof 24\, Minden\, 32423
CATEGORIES:Lesung
END:VEVENT
BEGIN:VEVENT
DTSTART;TZID=Europe/Berlin:20250516T190000
DTEND;TZID=Europe/Berlin:20250516T210000
DTSTAMP:20260424T162926
CREATED:20241220T130346Z
LAST-MODIFIED:20250406T110906Z
UID:7859-1747422000-1747429200@www.carla-berling.de
SUMMARY:Minden
DESCRIPTION:Lesung als Felicitas Fuchs aus: „Die Akte Schneeweiß“
URL:https://www.carla-berling.de/veranstaltung/minden-7/
LOCATION:Domschatz Minden\, Kleiner Domhof 24\, Minden\, 32423
CATEGORIES:Lesung
END:VEVENT
BEGIN:VEVENT
DTSTART;TZID=Europe/Berlin:20250515T193000
DTEND;TZID=Europe/Berlin:20250515T213000
DTSTAMP:20260424T162926
CREATED:20241220T130652Z
LAST-MODIFIED:20250406T110752Z
UID:7857-1747337400-1747344600@www.carla-berling.de
SUMMARY:Bielefeld
DESCRIPTION:Lesung als Felicitas Fuchs aus: „Die Akte Schneeweiß“
URL:https://www.carla-berling.de/veranstaltung/bielefeld-3/
LOCATION:CVJM Jöllenbeck e.V.\, Schwagerstr. 9\, Bielefeld\, 33739
CATEGORIES:Lesung
END:VEVENT
BEGIN:VEVENT
DTSTART;TZID=Europe/Berlin:20250514T190000
DTEND;TZID=Europe/Berlin:20250514T210000
DTSTAMP:20260424T162926
CREATED:20241220T130805Z
LAST-MODIFIED:20250406T105055Z
UID:7855-1747249200-1747256400@www.carla-berling.de
SUMMARY:Lübbecke
DESCRIPTION:Lesung als Felicitas Fuchs aus: „Die Akte Schneeweiß“
URL:https://www.carla-berling.de/veranstaltung/luebbecke-8/
LOCATION:Schäppchen\, Bäckerstraße 34\, Lübbecke\, 32312
CATEGORIES:Lesung
ORGANIZER;CN="Buchhandlung Oelschl%C3%A4ger":MAILTO:info@buecherstube-luebbecke.de
END:VEVENT
BEGIN:VEVENT
DTSTART;TZID=Europe/Berlin:20250412T190000
DTEND;TZID=Europe/Berlin:20250412T210000
DTSTAMP:20260424T162926
CREATED:20241220T131133Z
LAST-MODIFIED:20250119T163243Z
UID:7853-1744484400-1744491600@www.carla-berling.de
SUMMARY:Oberndorf/Neckar
DESCRIPTION:Lesung als Felicitas Fuchs aus: „Romy“
URL:https://www.carla-berling.de/veranstaltung/oberndorf-neckar/
LOCATION:Gasthaus Schützen\, Lindenstr. 2\, Oberndorf a. N.\, 78727
CATEGORIES:Lesung
END:VEVENT
BEGIN:VEVENT
DTSTART;TZID=Europe/Berlin:20250404T200000
DTEND;TZID=Europe/Berlin:20250404T220000
DTSTAMP:20260424T162926
CREATED:20250119T162924Z
LAST-MODIFIED:20250119T162924Z
UID:7885-1743796800-1743804000@www.carla-berling.de
SUMMARY:Bad Salzuflen
DESCRIPTION:Lesung aus: „Glück für Wiedereinsteiger“ \n 
URL:https://www.carla-berling.de/veranstaltung/bad-salzuflen/
LOCATION:Stadtbücherei Bad Sazuflen\, Ostertor Galerie\, Bad Salzuflen\, 32105
ORGANIZER;CN="Stadt Bad Salzuflen":MAILTO:stadtbuecherei@bad-salzuflen.de
END:VEVENT
BEGIN:VEVENT
DTSTART;TZID=Europe/Berlin:20250315T190000
DTEND;TZID=Europe/Berlin:20250315T210000
DTSTAMP:20260424T162926
CREATED:20241222T114041Z
LAST-MODIFIED:20241222T114041Z
UID:7851-1742065200-1742072400@www.carla-berling.de
SUMMARY:Porta Westfalica - Vennebeck
DESCRIPTION:Lesung aus: „Der Alte muss weg“ \nTickets: Buchhandlung Anja Peetz\, Tel.: 05731/3984836\, ab 18:00 Uhr: 05733/8780573
URL:https://www.carla-berling.de/veranstaltung/porta-westfalica-vennebeck/
LOCATION:Grundschule Vennebeck\, Hebbelstr. 19\, Porta Westfalica\, 32457
CATEGORIES:Lesung
END:VEVENT
BEGIN:VEVENT
DTSTART;TZID=Europe/Berlin:20250312T150000
DTEND;TZID=Europe/Berlin:20250312T170000
DTSTAMP:20260424T162926
CREATED:20240221T182516Z
LAST-MODIFIED:20241030T153542Z
UID:7741-1741791600-1741798800@www.carla-berling.de
SUMMARY:Rottach-Egern
DESCRIPTION:Lesung als Felicitas Fuchs aus: „Minna“ \nEintritt: kostenfrei\, Kartentelefon: 08022-18730
URL:https://www.carla-berling.de/veranstaltung/rottach-egern/
LOCATION:Seniorenresidenz Wallberg\, Rosswandweg 4-4a\, Rottach-Egern\, 83700
CATEGORIES:Lesung
END:VEVENT
BEGIN:VEVENT
DTSTART;TZID=Europe/Berlin:20250205T190000
DTEND;TZID=Europe/Berlin:20250205T210000
DTSTAMP:20260424T162926
CREATED:20241220T131727Z
LAST-MODIFIED:20241220T131727Z
UID:7849-1738782000-1738789200@www.carla-berling.de
SUMMARY:Unna
DESCRIPTION:Lesung aus: „Glück für Wiedereinsteiger“
URL:https://www.carla-berling.de/veranstaltung/unna-4/
LOCATION:Lindenbrauerei Unna\, Rio-Reiser-Weg 1\, Unna\, 59423
CATEGORIES:Lesung
END:VEVENT
BEGIN:VEVENT
DTSTART;TZID=Europe/Berlin:20241128T190000
DTEND;TZID=Europe/Berlin:20241128T210000
DTSTAMP:20260424T162926
CREATED:20241030T155127Z
LAST-MODIFIED:20241030T155127Z
UID:7841-1732820400-1732827600@www.carla-berling.de
SUMMARY:Wuppertal
DESCRIPTION:Lesung aus: „Glück für Wiedereinsteiger“
URL:https://www.carla-berling.de/veranstaltung/wuppertal/
LOCATION:Stadtbibliothek Ronsdorf\, Marktstr. 26\, Wuppertal\, 42369
END:VEVENT
BEGIN:VEVENT
DTSTART;TZID=Europe/Berlin:20241027T160000
DTEND;TZID=Europe/Berlin:20241027T180000
DTSTAMP:20260424T162926
CREATED:20240707T114740Z
LAST-MODIFIED:20240707T114830Z
UID:7820-1730044800-1730052000@www.carla-berling.de
SUMMARY:Leer
DESCRIPTION:Lesung aus: „Glück für Wiedereinsteiger“ \nTicketreservierung:\ntelefonisch: unter Tel.: 04919782-600\nKarten im VVK: 10 €
URL:https://www.carla-berling.de/veranstaltung/7820/
LOCATION:Stadtbibliothek Leer\, Wilhelminengang 12\, Leer\, 26789
CATEGORIES:Lesung
END:VEVENT
END:VCALENDAR