BEGIN:VCALENDAR
VERSION:2.0
PRODID:-//Carla Berling/Felicitas Fuchs - ECPv6.15.20//NONSGML v1.0//EN
CALSCALE:GREGORIAN
METHOD:PUBLISH
X-WR-CALNAME:Carla Berling/Felicitas Fuchs
X-ORIGINAL-URL:https://www.carla-berling.de
X-WR-CALDESC:Veranstaltungen für Carla Berling/Felicitas Fuchs
REFRESH-INTERVAL;VALUE=DURATION:PT1H
X-Robots-Tag:noindex
X-PUBLISHED-TTL:PT1H
BEGIN:VTIMEZONE
TZID:Europe/Berlin
BEGIN:DAYLIGHT
TZOFFSETFROM:+0100
TZOFFSETTO:+0200
TZNAME:CEST
DTSTART:20250330T010000
END:DAYLIGHT
BEGIN:STANDARD
TZOFFSETFROM:+0200
TZOFFSETTO:+0100
TZNAME:CET
DTSTART:20251026T010000
END:STANDARD
BEGIN:DAYLIGHT
TZOFFSETFROM:+0100
TZOFFSETTO:+0200
TZNAME:CEST
DTSTART:20260329T010000
END:DAYLIGHT
BEGIN:STANDARD
TZOFFSETFROM:+0200
TZOFFSETTO:+0100
TZNAME:CET
DTSTART:20261025T010000
END:STANDARD
BEGIN:DAYLIGHT
TZOFFSETFROM:+0100
TZOFFSETTO:+0200
TZNAME:CEST
DTSTART:20270328T010000
END:DAYLIGHT
BEGIN:STANDARD
TZOFFSETFROM:+0200
TZOFFSETTO:+0100
TZNAME:CET
DTSTART:20271031T010000
END:STANDARD
END:VTIMEZONE
BEGIN:VEVENT
DTSTART;TZID=Europe/Berlin:20260506T193000
DTEND;TZID=Europe/Berlin:20260506T213000
DTSTAMP:20260424T180816
CREATED:20260118T115422Z
LAST-MODIFIED:20260324T164441Z
UID:8048-1778095800-1778103000@www.carla-berling.de
SUMMARY:Unna
DESCRIPTION:Lesung als Felicitas Fuchs aus: „Die Akte Schneeweiß“ \nKartenvorverkauf: \nBuchhandlung Hornung \nMarkt 6 \n59423 Unna \nTelefon: 022303 251520 \nE-mail: info@hornung-buch.de
URL:https://www.carla-berling.de/veranstaltung/unna-5/
LOCATION:Lindenbrauerei Unna\, Rio-Reiser-Weg 1\, Unna\, 59423
CATEGORIES:Lesung
ORGANIZER;CN="Buchhandlung Holota":MAILTO:buchhandlung@helimail.de
END:VEVENT
BEGIN:VEVENT
DTSTART;TZID=Europe/Berlin:20260515T190000
DTEND;TZID=Europe/Berlin:20260515T213000
DTSTAMP:20260424T180816
CREATED:20251214T132733Z
LAST-MODIFIED:20251221T172050Z
UID:8015-1778871600-1778880600@www.carla-berling.de
SUMMARY:Lübbecke
DESCRIPTION:PREMIERE! \nLesung aus: „Rosen im Asphalt“ \n \n 
URL:https://www.carla-berling.de/veranstaltung/luebbecke-9/
LOCATION:Bürgerpark Schäppchen\, Bäckerstraße 34\, Lübbecke\, 32312\, Deutschland
CATEGORIES:Lesung
ORGANIZER;CN="Buchhandlung Oelschl%C3%A4ger":MAILTO:info@buecherstube-luebbecke.de
END:VEVENT
BEGIN:VEVENT
DTSTART;TZID=Europe/Berlin:20260516T190000
DTEND;TZID=Europe/Berlin:20260516T210000
DTSTAMP:20260424T180816
CREATED:20260307T090508Z
LAST-MODIFIED:20260307T090639Z
UID:8070-1778958000-1778965200@www.carla-berling.de
SUMMARY:Lübbecke
DESCRIPTION:Zusatztermin! \nLesung aus: „Rosen im Asphalt“
URL:https://www.carla-berling.de/veranstaltung/luebbecke-10/
LOCATION:Büchstube Andreas Oelschläger\, Lange Straße 46\, Lübbecke\, 32312
CATEGORIES:Lesung
ORGANIZER;CN="Buchhandlung Oelschl%C3%A4ger":MAILTO:info@buecherstube-luebbecke.de
END:VEVENT
BEGIN:VEVENT
DTSTART;TZID=Europe/Berlin:20260518T190000
DTEND;TZID=Europe/Berlin:20260518T210000
DTSTAMP:20260424T180816
CREATED:20260109T140832Z
LAST-MODIFIED:20260109T140832Z
UID:8038-1779130800-1779138000@www.carla-berling.de
SUMMARY:Versmold
DESCRIPTION:Lesung aus: „Rosen im Asphalt“
URL:https://www.carla-berling.de/veranstaltung/versmold/
LOCATION:Buchhandlung Krüger\, Münsterstr. 15a\, Versmold\, 3375
CATEGORIES:Lesung
ORGANIZER;CN="Buchhandlung Kr%C3%BCger Versmold":MAILTO:info@krueger‐versmold.de
END:VEVENT
BEGIN:VEVENT
DTSTART;TZID=Europe/Berlin:20260519T190000
DTEND;TZID=Europe/Berlin:20260519T210000
DTSTAMP:20260424T180816
CREATED:20260109T140141Z
LAST-MODIFIED:20260124T160755Z
UID:8035-1779217200-1779224400@www.carla-berling.de
SUMMARY:Bückeburg
DESCRIPTION:Lesung aus: „Rosen im Asphalt“ \nEintritt: 15€ inkl. Getränk und Fingerfood\nKartentelefon: 05722-3573
URL:https://www.carla-berling.de/veranstaltung/bueckeburg-3/
LOCATION:Grundschule im Petzer Feld\, Petzer Str. 43\, Bückeburg\, Niedersachsen\, 31675\, Germany
CATEGORIES:Lesung
END:VEVENT
BEGIN:VEVENT
DTSTART;TZID=Europe/Berlin:20260520T190000
DTEND;TZID=Europe/Berlin:20260520T210000
DTSTAMP:20260424T180816
CREATED:20260109T141211Z
LAST-MODIFIED:20260109T141248Z
UID:8042-1779303600-1779310800@www.carla-berling.de
SUMMARY:Löhne
DESCRIPTION:Lesung aus: „Rosen im Asphalt“
URL:https://www.carla-berling.de/veranstaltung/8042/
LOCATION:Werretalhalle\, Alte Bünder Str. 14\, Löhne\, 32584
CATEGORIES:Lesung
END:VEVENT
BEGIN:VEVENT
DTSTART;TZID=Europe/Berlin:20260521T190000
DTEND;TZID=Europe/Berlin:20260521T213000
DTSTAMP:20260424T180816
CREATED:20251222T184910Z
LAST-MODIFIED:20251222T184910Z
UID:8030-1779390000-1779399000@www.carla-berling.de
SUMMARY:Oerlinghausen
DESCRIPTION:Lesung aus: „Rosen im Asphalt“\nKartentelefon: 05202/3646
URL:https://www.carla-berling.de/veranstaltung/oerlinghausen/
LOCATION:Mensa der Heinz-Sielmann-Schule\, Weerthstr. 2\, Oerlinghausen\, 33813
CATEGORIES:Lesung
ORGANIZER;CN="Buchhandlung Blume Inh. Cerrin Franziska Wehrmann-Ristau":MAILTO:info@blume-buch.de
END:VEVENT
BEGIN:VEVENT
DTSTART;TZID=Europe/Berlin:20260522T193000
DTEND;TZID=Europe/Berlin:20260522T213000
DTSTAMP:20260424T180816
CREATED:20251220T183832Z
LAST-MODIFIED:20251220T183832Z
UID:8025-1779478200-1779485400@www.carla-berling.de
SUMMARY:Minden
DESCRIPTION:Lesung aus: „Rosen im Asphalt“
URL:https://www.carla-berling.de/veranstaltung/minden-8/
LOCATION:Domschatz Minden\, Kleiner Domhof 24\, Minden\, 32423
CATEGORIES:Lesung
END:VEVENT
BEGIN:VEVENT
DTSTART;TZID=Europe/Berlin:20260523T190000
DTEND;TZID=Europe/Berlin:20260523T210000
DTSTAMP:20260424T180816
CREATED:20260109T141504Z
LAST-MODIFIED:20260109T141504Z
UID:8045-1779562800-1779570000@www.carla-berling.de
SUMMARY:Vlotho
DESCRIPTION:Lesung aus: „Rosen im Asphalt“
URL:https://www.carla-berling.de/veranstaltung/vlotho-3/
LOCATION:Stadtbücherei Vlotho\, Lange Straße 53\, Vlotho\, 32602
CATEGORIES:Lesung
ORGANIZER;CN="Stadtb%C3%BCcherei Vlotho":MAILTO:buecherei@vlotho.de
END:VEVENT
BEGIN:VEVENT
DTSTART;TZID=Europe/Berlin:20260526T193000
DTEND;TZID=Europe/Berlin:20260526T213000
DTSTAMP:20260424T180816
CREATED:20260324T165019Z
LAST-MODIFIED:20260324T165019Z
UID:8089-1779823800-1779831000@www.carla-berling.de
SUMMARY:Ahaus
DESCRIPTION:Lesung aus: „Rosen im Asphalt“
URL:https://www.carla-berling.de/veranstaltung/ahaus/
LOCATION:Stadtbibliothek Ahaus\, Wüllener Str. 18\, Ahaus\, 48683
CATEGORIES:Lesung
ORGANIZER;CN="Stadtbibliothek Ahaus":MAILTO:a.reehuis@ahaus.de
END:VEVENT
BEGIN:VEVENT
DTSTART;TZID=Europe/Berlin:20260527T193000
DTEND;TZID=Europe/Berlin:20260527T213000
DTSTAMP:20260424T180816
CREATED:20260324T165356Z
LAST-MODIFIED:20260324T165356Z
UID:8093-1779910200-1779917400@www.carla-berling.de
SUMMARY:Velen
DESCRIPTION:Lesung aus: „Rosen im Asphalt“
URL:https://www.carla-berling.de/veranstaltung/velen/
LOCATION:Saal im „Coesfelder Tor“\, Coesfelder Str. 34\, Velen\, 46342
CATEGORIES:Lesung
ORGANIZER;CN="Buchhandlung Siebzehn56":MAILTO:info@siebzehn56.de
END:VEVENT
END:VCALENDAR