BEGIN:VCALENDAR
VERSION:2.0
PRODID:-//Carla Berling/Felicitas Fuchs - ECPv6.15.20//NONSGML v1.0//EN
CALSCALE:GREGORIAN
METHOD:PUBLISH
X-WR-CALNAME:Carla Berling/Felicitas Fuchs
X-ORIGINAL-URL:https://www.carla-berling.de
X-WR-CALDESC:Veranstaltungen für Carla Berling/Felicitas Fuchs
REFRESH-INTERVAL;VALUE=DURATION:PT1H
X-Robots-Tag:noindex
X-PUBLISHED-TTL:PT1H
BEGIN:VTIMEZONE
TZID:Europe/Berlin
BEGIN:DAYLIGHT
TZOFFSETFROM:+0100
TZOFFSETTO:+0200
TZNAME:CEST
DTSTART:20250330T010000
END:DAYLIGHT
BEGIN:STANDARD
TZOFFSETFROM:+0200
TZOFFSETTO:+0100
TZNAME:CET
DTSTART:20251026T010000
END:STANDARD
BEGIN:DAYLIGHT
TZOFFSETFROM:+0100
TZOFFSETTO:+0200
TZNAME:CEST
DTSTART:20260329T010000
END:DAYLIGHT
BEGIN:STANDARD
TZOFFSETFROM:+0200
TZOFFSETTO:+0100
TZNAME:CET
DTSTART:20261025T010000
END:STANDARD
BEGIN:DAYLIGHT
TZOFFSETFROM:+0100
TZOFFSETTO:+0200
TZNAME:CEST
DTSTART:20270328T010000
END:DAYLIGHT
BEGIN:STANDARD
TZOFFSETFROM:+0200
TZOFFSETTO:+0100
TZNAME:CET
DTSTART:20271031T010000
END:STANDARD
END:VTIMEZONE
BEGIN:VEVENT
DTSTART;TZID=Europe/Berlin:20260319T180000
DTEND;TZID=Europe/Berlin:20260319T200000
DTSTAMP:20260424T194624
CREATED:20251214T134859Z
LAST-MODIFIED:20251221T172016Z
UID:8020-1773943200-1773950400@www.carla-berling.de
SUMMARY:Köln
DESCRIPTION:Lesung als Felicitas Fuchs aus: „Die Akte Schneeweiß“\nVorverkauf \n 
URL:https://www.carla-berling.de/veranstaltung/koeln-7/
LOCATION:Erzengel-Michael-Kirche\, Pfarrer-te-Reh-Straße 7\, Köln\, 50999
CATEGORIES:Lesung
END:VEVENT
BEGIN:VEVENT
DTSTART;TZID=Europe/Berlin:20260326T190000
DTEND;TZID=Europe/Berlin:20260326T210000
DTSTAMP:20260424T194624
CREATED:20260201T113603Z
LAST-MODIFIED:20260201T113603Z
UID:8062-1774551600-1774558800@www.carla-berling.de
SUMMARY:Steinhagen
DESCRIPTION:Lesung als Felicitas Fuchs aus: „Die Akte Schneeweiß“ \nKartenvorverkauf in der Buchhandlung oder unter 05204/5119
URL:https://www.carla-berling.de/veranstaltung/steinhagen/
LOCATION:Buchhandlung am Schlichte Carree\, Kirchplatz 26\, Steinhagen\, 33803
CATEGORIES:Lesung
END:VEVENT
END:VCALENDAR