BEGIN:VCALENDAR
VERSION:2.0
PRODID:-//Carla Berling/Felicitas Fuchs - ECPv6.15.20//NONSGML v1.0//EN
CALSCALE:GREGORIAN
METHOD:PUBLISH
X-ORIGINAL-URL:https://www.carla-berling.de
X-WR-CALDESC:Veranstaltungen für Carla Berling/Felicitas Fuchs
REFRESH-INTERVAL;VALUE=DURATION:PT1H
X-Robots-Tag:noindex
X-PUBLISHED-TTL:PT1H
BEGIN:VTIMEZONE
TZID:Europe/Berlin
BEGIN:DAYLIGHT
TZOFFSETFROM:+0100
TZOFFSETTO:+0200
TZNAME:CEST
DTSTART:20240331T010000
END:DAYLIGHT
BEGIN:STANDARD
TZOFFSETFROM:+0200
TZOFFSETTO:+0100
TZNAME:CET
DTSTART:20241027T010000
END:STANDARD
BEGIN:DAYLIGHT
TZOFFSETFROM:+0100
TZOFFSETTO:+0200
TZNAME:CEST
DTSTART:20250330T010000
END:DAYLIGHT
BEGIN:STANDARD
TZOFFSETFROM:+0200
TZOFFSETTO:+0100
TZNAME:CET
DTSTART:20251026T010000
END:STANDARD
BEGIN:DAYLIGHT
TZOFFSETFROM:+0100
TZOFFSETTO:+0200
TZNAME:CEST
DTSTART:20260329T010000
END:DAYLIGHT
BEGIN:STANDARD
TZOFFSETFROM:+0200
TZOFFSETTO:+0100
TZNAME:CET
DTSTART:20261025T010000
END:STANDARD
END:VTIMEZONE
BEGIN:VEVENT
DTSTART;TZID=Europe/Berlin:20250312T150000
DTEND;TZID=Europe/Berlin:20250312T170000
DTSTAMP:20260425T194452
CREATED:20240221T182516Z
LAST-MODIFIED:20241030T153542Z
UID:7741-1741791600-1741798800@www.carla-berling.de
SUMMARY:Rottach-Egern
DESCRIPTION:Lesung als Felicitas Fuchs aus: „Minna“ \nEintritt: kostenfrei\, Kartentelefon: 08022-18730
URL:https://www.carla-berling.de/veranstaltung/rottach-egern/
LOCATION:Seniorenresidenz Wallberg\, Rosswandweg 4-4a\, Rottach-Egern\, 83700
CATEGORIES:Lesung
END:VEVENT
END:VCALENDAR